BEGIN:VCALENDAR
VERSION:2.0
PRODID:-//PAASSS - ECPv6.15.19//NONSGML v1.0//EN
CALSCALE:GREGORIAN
METHOD:PUBLISH
X-WR-CALNAME:PAASSS
X-ORIGINAL-URL:https://paasss.org
X-WR-CALDESC:Events for PAASSS
REFRESH-INTERVAL;VALUE=DURATION:PT1H
X-Robots-Tag:noindex
X-PUBLISHED-TTL:PT1H
BEGIN:VTIMEZONE
TZID:America/Chicago
BEGIN:DAYLIGHT
TZOFFSETFROM:-0600
TZOFFSETTO:-0500
TZNAME:CDT
DTSTART:20250309T080000
END:DAYLIGHT
BEGIN:STANDARD
TZOFFSETFROM:-0500
TZOFFSETTO:-0600
TZNAME:CST
DTSTART:20251102T070000
END:STANDARD
BEGIN:DAYLIGHT
TZOFFSETFROM:-0600
TZOFFSETTO:-0500
TZNAME:CDT
DTSTART:20260308T080000
END:DAYLIGHT
BEGIN:STANDARD
TZOFFSETFROM:-0500
TZOFFSETTO:-0600
TZNAME:CST
DTSTART:20261101T070000
END:STANDARD
BEGIN:DAYLIGHT
TZOFFSETFROM:-0600
TZOFFSETTO:-0500
TZNAME:CDT
DTSTART:20270314T080000
END:DAYLIGHT
BEGIN:STANDARD
TZOFFSETFROM:-0500
TZOFFSETTO:-0600
TZNAME:CST
DTSTART:20271107T070000
END:STANDARD
END:VTIMEZONE
BEGIN:VEVENT
DTSTART;TZID=America/Chicago:20260420T181500
DTEND;TZID=America/Chicago:20260420T191500
DTSTAMP:20260420T035427
CREATED:20260109T165445Z
LAST-MODIFIED:20260109T165445Z
UID:1170-1776708900-1776712500@paasss.org
SUMMARY:Plano Families with Vision Meeting (via Zoom)
DESCRIPTION:
URL:https://paasss.org/event/plano-families-with-vision-meeting-via-zoom-4/
LOCATION:Zoom
ORGANIZER;CN="PAASSS":MAILTO:paasssinfo@gmail.com
END:VEVENT
END:VCALENDAR