BEGIN:VCALENDAR
VERSION:2.0
PRODID:-//PAASSS - ECPv6.15.19//NONSGML v1.0//EN
CALSCALE:GREGORIAN
METHOD:PUBLISH
X-WR-CALNAME:PAASSS
X-ORIGINAL-URL:https://paasss.org
X-WR-CALDESC:Events for PAASSS
REFRESH-INTERVAL;VALUE=DURATION:PT1H
X-Robots-Tag:noindex
X-PUBLISHED-TTL:PT1H
BEGIN:VTIMEZONE
TZID:America/Chicago
BEGIN:DAYLIGHT
TZOFFSETFROM:-0600
TZOFFSETTO:-0500
TZNAME:CDT
DTSTART:20250309T080000
END:DAYLIGHT
BEGIN:STANDARD
TZOFFSETFROM:-0500
TZOFFSETTO:-0600
TZNAME:CST
DTSTART:20251102T070000
END:STANDARD
BEGIN:DAYLIGHT
TZOFFSETFROM:-0600
TZOFFSETTO:-0500
TZNAME:CDT
DTSTART:20260308T080000
END:DAYLIGHT
BEGIN:STANDARD
TZOFFSETFROM:-0500
TZOFFSETTO:-0600
TZNAME:CST
DTSTART:20261101T070000
END:STANDARD
BEGIN:DAYLIGHT
TZOFFSETFROM:-0600
TZOFFSETTO:-0500
TZNAME:CDT
DTSTART:20270314T080000
END:DAYLIGHT
BEGIN:STANDARD
TZOFFSETFROM:-0500
TZOFFSETTO:-0600
TZNAME:CST
DTSTART:20271107T070000
END:STANDARD
END:VTIMEZONE
BEGIN:VEVENT
DTSTART;TZID=America/Chicago:20260416T100000
DTEND;TZID=America/Chicago:20260416T110000
DTSTAMP:20260420T033544
CREATED:20260109T165118Z
LAST-MODIFIED:20260109T165118Z
UID:1163-1776333600-1776337200@paasss.org
SUMMARY:PAASSS Leadership Team Meeting (via Zoom)
DESCRIPTION:
URL:https://paasss.org/event/paasss-leadership-team-meeting-via-zoom-4/
LOCATION:Zoom
ORGANIZER;CN="PAASSS":MAILTO:paasssinfo@gmail.com
END:VEVENT
BEGIN:VEVENT
DTSTART;TZID=America/Chicago:20260416T173000
DTEND;TZID=America/Chicago:20260416T190000
DTSTAMP:20260420T033544
CREATED:20260109T165204Z
LAST-MODIFIED:20260109T165204Z
UID:1165-1776360600-1776366000@paasss.org
SUMMARY:Family Reading Night at PH Miller Elementary School
DESCRIPTION:
URL:https://paasss.org/event/family-reading-night-at-ph-miller-elementary-school/
LOCATION:PH Miller Elementary School\, 904 N. Lew Street\, Plano\, IL\, 60545\, United States
ORGANIZER;CN="PAASSS":MAILTO:paasssinfo@gmail.com
END:VEVENT
END:VCALENDAR